BEGIN:VCALENDAR
VERSION:2.0
PRODID:-//Georg Dybowski - ECPv6.15.16//NONSGML v1.0//EN
CALSCALE:GREGORIAN
METHOD:PUBLISH
X-ORIGINAL-URL:https://dybomusic.de
X-WR-CALDESC:Veranstaltungen für Georg Dybowski
REFRESH-INTERVAL;VALUE=DURATION:PT1H
X-Robots-Tag:noindex
X-PUBLISHED-TTL:PT1H
BEGIN:VTIMEZONE
TZID:Europe/Berlin
BEGIN:DAYLIGHT
TZOFFSETFROM:+0100
TZOFFSETTO:+0200
TZNAME:CEST
DTSTART:20240331T010000
END:DAYLIGHT
BEGIN:STANDARD
TZOFFSETFROM:+0200
TZOFFSETTO:+0100
TZNAME:CET
DTSTART:20241027T010000
END:STANDARD
BEGIN:DAYLIGHT
TZOFFSETFROM:+0100
TZOFFSETTO:+0200
TZNAME:CEST
DTSTART:20250330T010000
END:DAYLIGHT
BEGIN:STANDARD
TZOFFSETFROM:+0200
TZOFFSETTO:+0100
TZNAME:CET
DTSTART:20251026T010000
END:STANDARD
BEGIN:DAYLIGHT
TZOFFSETFROM:+0100
TZOFFSETTO:+0200
TZNAME:CEST
DTSTART:20260329T010000
END:DAYLIGHT
BEGIN:STANDARD
TZOFFSETFROM:+0200
TZOFFSETTO:+0100
TZNAME:CET
DTSTART:20261025T010000
END:STANDARD
END:VTIMEZONE
BEGIN:VEVENT
DTSTART;TZID=Europe/Berlin:20250919T193000
DTEND;TZID=Europe/Berlin:20250919T213000
DTSTAMP:20260421T224039
CREATED:20250404T082049Z
LAST-MODIFIED:20250405T083818Z
UID:658-1758310200-1758317400@dybomusic.de
SUMMARY:ChamberJazz in St. Barbara\, Duisburg
DESCRIPTION:ChamberJazz spielt einmal mehr in der wunderbaren St. Barbara Kirche in Duisburg. Der Eintritt ist frei – Spenden erbeten:-) \nWir spielen im Quartett mit Georg Dybowski (Stahlsaitengitarre)\, Matthias Keidel (Saxophon)\, Gregorio Mangano (Trompete) und Fritz Roppel (Bass)\, \nmit altbewährten sowie aber auch vielen neuen Stücken\, die durch die Quartettbesetzung und die vielfältigen Klangfarben der Instrumente und der tollen Akustik möglich werden.
URL:https://dybomusic.de/event/chamberjazz/
LOCATION:St. Barbara Duisburg\, Fahrner Strasse 60\, Duisburg\, 47169\, Germany
END:VEVENT
BEGIN:VEVENT
DTSTART;TZID=Europe/Berlin:20250925T200000
DTEND;TZID=Europe/Berlin:20250925T213000
DTSTAMP:20260421T224039
CREATED:20250404T082910Z
LAST-MODIFIED:20250404T082910Z
UID:662-1758830400-1758835800@dybomusic.de
SUMMARY:Georg Dybowski Quartett bei Jazz im Filmforum\, Bottrop
DESCRIPTION:Ich werde im Filmforum gemeinsam mit Matthias Keidel (Saxophone)\, Many Miketta (Kontrabass) und Jens Otto (Schlagzeug) zu hören sein. \nWer mit meiner Musik vertraut ist\, weiß\, dass meine Kompositionen meist Songstruktur haben – Lieder ohne Worte. Es sind in letzter Zeit Texte zu seinen ChamberJazz Stücken entstanden\, sodass aus den Liedern ohne Worten nun echte Songs geworden sind. Einige davon habe ich in ja in letzter Zeit schon live gesungen.  Es sind noch mehr geworden;-) \n 
URL:https://dybomusic.de/event/georg-dybowski-quartett-bei-jazz-im-filmforum-bottrop/
LOCATION:Filmforum Bottrop\, Blumenstraße\, Bottrop\, 46236\, Deutschland
END:VEVENT
END:VCALENDAR